BEGIN:VCALENDAR
VERSION:2.0
PRODID:-//SVP Kanton Glarus //NONSGML Events //EN
CALSCALE:GREGORIAN
X-WR-CALNAME:SVP Kanton Glarus
BEGIN:VEVENT
CREATED:20251202T082608Z
UID:14943
DTEND:20260503T000000
DTSTART:20260503T000000
DTSTAMP:20260422T140426Z
LOCATION:Glarus
DESCRIPTION:
SUMMARY:Landsgemeinde
ORGANIZER:
URL;VALUE=URI:https://www.svp-gl.ch/aktuell/termine/landsgemeinde-7/
TRANSP:OPAQUE
END:VEVENT
END:VCALENDAR
