BEGIN:VCALENDAR
VERSION:2.0
PRODID:-//SVP Kanton Glarus //NONSGML Events //EN
CALSCALE:GREGORIAN
X-WR-CALNAME:SVP Kanton Glarus
BEGIN:VEVENT
CREATED:20251202T082520Z
UID:14941
DTEND:20260502T000000
DTSTART:20260502T000000
DTSTAMP:20260422T135821Z
LOCATION:Glarus
DESCRIPTION:
SUMMARY:Flohmarkt Landsgemeindesamstag &#038\; Wahlkampfstart Landratswahlen
ORGANIZER:
URL;VALUE=URI:https://www.svp-gl.ch/aktuell/termine/flohmarkt-landsgemeindesamstag-wahlkampfstart-landratswahlen/
TRANSP:OPAQUE
END:VEVENT
END:VCALENDAR
