BEGIN:VCALENDAR
VERSION:2.0
PRODID:-//SVP Kanton Glarus //NONSGML Events //EN
CALSCALE:GREGORIAN
X-WR-CALNAME:SVP Kanton Glarus
BEGIN:VEVENT
CREATED:20251202T081759Z
UID:14925
DTEND:20260512T210000
DTSTART:20260512T200000
DTSTAMP:20260422T154108Z
LOCATION:Rest. Trigonella\, Ennenda
DESCRIPTION:
SUMMARY:3. Kant. Delegiertenversammlung (Volksabstimmung 14.06.2026)
ORGANIZER:
URL;VALUE=URI:https://www.svp-gl.ch/aktuell/termine/3-kant-delegiertenversammlung-volksabstimmung-14-06-2026/
TRANSP:OPAQUE
END:VEVENT
END:VCALENDAR
