BEGIN:VCALENDAR
VERSION:2.0
PRODID:-//SVP Kanton Glarus //NONSGML Events //EN
CALSCALE:GREGORIAN
X-WR-CALNAME:SVP Kanton Glarus
BEGIN:VEVENT
CREATED:20241206T093130Z
UID:14617
DTEND:20250125T000000
DTSTART:20250125T000000
DTSTAMP:20260421T101916Z
LOCATION:Solothurn
DESCRIPTION:
SUMMARY:Delegiertenversammlung SVP Schweiz
ORGANIZER:
URL;VALUE=URI:https://www.svp-gl.ch/aktuell/termine/delegiertenversammlung-svp-schweiz-19/
TRANSP:OPAQUE
END:VEVENT
END:VCALENDAR
