BEGIN:VCALENDAR
VERSION:2.0
PRODID:-//SVP Kanton Glarus //NONSGML Events //EN
CALSCALE:GREGORIAN
X-WR-CALNAME:SVP Kanton Glarus
BEGIN:VEVENT
CREATED:20240606T183742Z
UID:14404
DTEND:20240619T200000
DTSTART:20240619T193000
DTSTAMP:20260420T042638Z
LOCATION:Hotel Post Glarnerhof\, Glarus
DESCRIPTION:
SUMMARY:Sessionsrückblick mit NR Markus Schnyder
ORGANIZER:
URL;VALUE=URI:https://www.svp-gl.ch/aktuell/termine/sessionsrueckblick-mit-nr-markus-schnyder/
TRANSP:OPAQUE
END:VEVENT
END:VCALENDAR
