BEGIN:VCALENDAR
VERSION:2.0
PRODID:-//SVP Kanton Glarus //NONSGML Events //EN
CALSCALE:GREGORIAN
X-WR-CALNAME:SVP Kanton Glarus
BEGIN:VEVENT
CREATED:20240117T153920Z
UID:14016
DTEND:20241022T000000
DTSTART:20241022T000000
DTSTAMP:20260422T202319Z
LOCATION:
DESCRIPTION:
SUMMARY:5. Kant. Delegiertenversammlung (Volksabstimmung 24.11.2024)
ORGANIZER:
URL;VALUE=URI:https://www.svp-gl.ch/aktuell/termine/5-kant-delegiertenversammlung-volksabstimmung-24-11-2024/
TRANSP:OPAQUE
END:VEVENT
END:VCALENDAR
