BEGIN:VCALENDAR
VERSION:2.0
PRODID:-//SVP Kanton Glarus //NONSGML Events //EN
CALSCALE:GREGORIAN
X-WR-CALNAME:SVP Kanton Glarus
BEGIN:VEVENT
CREATED:20230905T100052Z
UID:13778
DTEND:20230922T180000
DTSTART:20230922T170000
DTSTAMP:20260421T104550Z
LOCATION:Netstal
DESCRIPTION:Markus Schnyder und Peter Rothlin sind im ganzen Kanton unterwegs. Tri
SUMMARY:Wahlen 2023 / SVP bi dä Lüüt
ORGANIZER:
URL;VALUE=URI:https://www.svp-gl.ch/aktuell/termine/wahlen-2023-svp-bi-dae-lueuet-4/
TRANSP:OPAQUE
END:VEVENT
END:VCALENDAR
