BEGIN:VCALENDAR
VERSION:2.0
PRODID:-//SVP Kanton Glarus //NONSGML Events //EN
CALSCALE:GREGORIAN
X-WR-CALNAME:SVP Kanton Glarus
BEGIN:VEVENT
CREATED:20230407T184228Z
UID:13551
DTEND:20231107T000000
DTSTART:20231107T000000
DTSTAMP:20260420T131620Z
LOCATION:
DESCRIPTION:
SUMMARY:Gemeindeversammlung Glarus Nord
ORGANIZER:
URL;VALUE=URI:https://www.svp-gl.ch/aktuell/termine/gemeindeversammlung-glarus-nord-6/
TRANSP:OPAQUE
END:VEVENT
END:VCALENDAR
