BEGIN:VCALENDAR
VERSION:2.0
PRODID:-//SVP Kanton Glarus //NONSGML Events //EN
CALSCALE:GREGORIAN
X-WR-CALNAME:SVP Kanton Glarus
BEGIN:VEVENT
CREATED:20230407T183757Z
UID:13541
DTEND:20231022T000000
DTSTART:20231022T000000
DTSTAMP:20260420T144155Z
LOCATION:
DESCRIPTION:
SUMMARY:Eidgenössiche Volksabstimmung &#038\; Wahlen
ORGANIZER:
URL;VALUE=URI:https://www.svp-gl.ch/aktuell/termine/eidgenoessiche-volksabstimmung-wahlen/
TRANSP:OPAQUE
END:VEVENT
END:VCALENDAR
