BEGIN:VCALENDAR
VERSION:2.0
PRODID:-//SVP Kanton Glarus //NONSGML Events //EN
CALSCALE:GREGORIAN
X-WR-CALNAME:SVP Kanton Glarus
BEGIN:VEVENT
CREATED:20220309T160231Z
UID:12737
DTEND:20220614T000000
DTSTART:20220614T000000
DTSTAMP:20260420T121655Z
LOCATION:
DESCRIPTION:
SUMMARY:Mitgliederversammlung Glarus Süd
ORGANIZER:
URL;VALUE=URI:https://www.svp-gl.ch/aktuell/termine/mitgliederversammlung-glarus-sued/
TRANSP:OPAQUE
END:VEVENT
END:VCALENDAR
